BEGIN:VCALENDAR
VERSION:2.0
PRODID:-//eventon.com NONSGML v1.0//EN
CALSCALE:GREGORIAN
METHOD:PUBLISH
BEGIN:VEVENT
UID:69e91e20daf9c
DTSTAMP:20260422T191440Z
DTSTART:20260514T110000Z
DTEND:20260514T143000Z
LOCATION:Sims Lanes 7425 Big Beaver Road\,  Beaver Falls PA. 15010
SUMMARY:6067 Beaver: Bowling with Friends
DESCRIPTION:Join us for a fun day of bowling and socialization! No outside 
 food permitted\,  please plan to purchase lunch from the bowling alley! No 
 drop offs. Please pre-register.\nhttps://paconnectingcommunities.org/advoca
 cy/events/6067-beaver-bowling-with-friends-9/
URL:https://paconnectingcommunities.org/advocacy/events/6067-beaver-bowling-with-friends-9/
END:VEVENT
END:VCALENDAR